BEGIN:VCALENDAR
METHOD:PUBLISH
PRODID:-//Weblication CMS
VERSION:2.0
BEGIN:VEVENT
SUMMARY:Immobilienschutz
DTSTART:20190521T180000
DTEND:20190521T210000
DESCRIPTION:vor Alterskosten, Altersschwäche, Pflichteil etc. 
LOCATION:Meißenheim
UID:https://www.erbschaftplanen.de/de/veranstaltungen/termine/Immobilienschutz-Meissenheim.php
URL:https://www.erbschaftplanen.de/de/veranstaltungen/termine/Immobilienschutz-Meissenheim.php
END:VEVENT
END:VCALENDAR