BEGIN:VCALENDAR
METHOD:PUBLISH
PRODID:-//Weblication CMS
VERSION:2.0
BEGIN:VEVENT
SUMMARY:Notfallkoffer für Ehepartner
DTSTART:20210908T180000
DTEND:20210908T200000
DESCRIPTION:Testament, Vorsorgevollmacht, Patientenverfügung 
LOCATION:Biberach
UID:https://www.erbschaftplanen.de/de/veranstaltungen/termine/Notfallkoffer-fuer-Ehepartner-biberach.php
URL:https://www.erbschaftplanen.de/de/veranstaltungen/termine/Notfallkoffer-fuer-Ehepartner-biberach.php
END:VEVENT
END:VCALENDAR