BEGIN:VCALENDAR
METHOD:PUBLISH
PRODID:-//Weblication CMS
VERSION:2.0
BEGIN:VEVENT
SUMMARY:Notfallkoffer für Ehepartner
DTSTART:20221116T183000
DTEND:20221116T203000
DESCRIPTION:Testament, Vorsorgevollmacht, Patientenverfügung 
LOCATION:Haslach
UID:https://www.erbschaftplanen.de/de/veranstaltungen/termine/Notfallkoffer-fuer-Ehepartner-haslach.php
URL:https://www.erbschaftplanen.de/de/veranstaltungen/termine/Notfallkoffer-fuer-Ehepartner-haslach.php
END:VEVENT
END:VCALENDAR