BEGIN:VCALENDAR
METHOD:PUBLISH
PRODID:-//Weblication CMS
VERSION:2.0
BEGIN:VEVENT
SUMMARY:Notfallkoffer für Paare ohne Trauschein
DTSTART:20251008T180000
DTEND:20251008T200000
DESCRIPTION:Für Paare ohne Trauschein von A-Z
LOCATION:Meißenheim
UID:https://www.erbschaftplanen.de/de/veranstaltungen/termine/Notfallkoffer-fuer-Paare-ohne-Trauschein-Meissenheim.php
URL:https://www.erbschaftplanen.de/de/veranstaltungen/termine/Notfallkoffer-fuer-Paare-ohne-Trauschein-Meissenheim.php
END:VEVENT
END:VCALENDAR