BEGIN:VCALENDAR
METHOD:PUBLISH
PRODID:-//Weblication CMS
VERSION:2.0
BEGIN:VEVENT
SUMMARY:Übergabe oder Erbfolge
DTSTART:20220428T180000
DTEND:20220428T200000
DESCRIPTION:Altersabsicherung von Immobilien und Eigentum 
LOCATION:Wolfach
UID:https://www.erbschaftplanen.de/de/veranstaltungen/termine/Uebergabe-und-wohnen-wolfach.php
URL:https://www.erbschaftplanen.de/de/veranstaltungen/termine/Uebergabe-und-wohnen-wolfach.php
END:VEVENT
END:VCALENDAR